Workbook

Sheet CELL
A1: 項目 | B1: 値 | H1: 種類
A2: 数値 | B2: 1234.5 | I2: {=CELL("type",B2)} -> v
A3: 文字 | B3: abc | I3: {=CELL("type",B3)} -> l
A4: 空白 | I4: {=CELL("type",B4)} -> b
A5: 日付 | B5: =DATE(2026,4,1) -> 46113 | I5: {=CELL("type",B5)} -> v
H7: アドレス
I8: {=CELL("address",B2)} -> $B$2
I9: {=CELL("address",B3)} -> $B$3
I10: {=CELL("address",B4)} -> $B$4
I11: {=CELL("address",B5)} -> $B$5
H13: 表示形式
I14: {=CELL("format",B2)} -> G
I15: {=CELL("format",B3)} -> G
I16: {=CELL("format",B4)} -> G
I17: {=CELL("format",B5)} -> D1
H19: 行・列・列幅
I20: {=CELL("row",B2)&"行 "&CELL("col",B2)&"列 幅"&INDEX(CELL("width",B2),1)} -> 2行 2列 幅10

Sheet 検証
A1: CELL でつまずくところ
A3: ためしたこと | B3: 結果 | C3: 式
A4: 保存する前のブックの "filename" | B4: {=CELL("filename",CELL!A1)} | C4: =CELL("filename",CELL!A1)
A5: "filename" の文字数 | B5: {=LEN(CELL("filename",CELL!A1))} -> 0 | C5: =LEN(CELL("filename",CELL!A1))
A6: "contents"（日付のセル） | B6: {=CELL("contents",CELL!B5)} -> 46113 | C6: =CELL("contents",CELL!B5)
A7: "prefix"（中央ぞろえの文字） | B7: {=CELL("prefix",CELL!B3)} -> ^ | C7: =CELL("prefix",CELL!B3)
A8: "protect"（ふつうのセル） | B8: {=CELL("protect",CELL!B2)} -> 1 | C8: =CELL("protect",CELL!B2)
A9: 検査の種類を間違えた（"typ"） | B9: {=CELL("typ",CELL!B2)} -> #VALUE! | C9: =CELL("typ",CELL!B2)
A10: "width" の 2 つ目（B 列） | B10: {=INDEX(CELL("width",CELL!B2),2)} -> FALSE | C10: =INDEX(CELL("width",CELL!B2),2)
